BEGIN:VCALENDAR
VERSION:2.0
PRODID:cacj.georgia.gov
X-WR-TIMEZONE:America/New_York
BEGIN:VTIMEZONE
TZID:America/New_York
X-LIC-LOCATION:America/New_York
END:VTIMEZONE
BEGIN:VEVENT
UID:608657324e462
DTSTART;TZID=UTC:20210409T130000
SEQUENCE:0
TRANSP:OPAQUE
DTEND;TZID=UTC:20210409T200000
URL:https://cacj.georgia.gov/events/2021-04-09/cviog-team-group-dynamics
SUMMARY:CVIOG: Team & Group Dynamics
CLASS:PUBLIC
DESCRIPTION:This course is facilitated via Zoom (due to the COVID-19 pandem
 ic)\, the instructor requires all participants to join the Zoom classroom 
 using a desktop computer\, laptop or tablet with a clear audio connection.
   Additionally\, a video connection is preferred but not required.
DTSTAMP:20210426T020122Z
END:VEVENT
END:VCALENDAR