BEGIN:VCALENDAR
VERSION:2.0
PRODID:cacj.georgia.gov
X-WR-TIMEZONE:America/New_York
BEGIN:VTIMEZONE
TZID:America/New_York
X-LIC-LOCATION:America/New_York
END:VTIMEZONE
BEGIN:VEVENT
UID:6144ff4834f34
DTSTART;VALUE=DATE:20210423
SEQUENCE:0
TRANSP:OPAQUE
DTEND;VALUE=DATE:20210424
URL:https://cacj.georgia.gov/events/2021-04-23/cviog-conflict-management
SUMMARY:CVIOG: Conflict Management
CLASS:PUBLIC
DESCRIPTION: This course is facilitated via Zoom (due to the COVID-19 pand
 emic)\, the instructor requires all participants to join the Zoom classroo
 m using a desktop computer\, laptop or tablet with a clear audio connectio
 n.  Additionally\, a video connection is preferred but not required.
X-MICROSOFT-CDO-ALLDAYEVENT:TRUE
DTSTAMP:20210917T164912Z
END:VEVENT
END:VCALENDAR