BEGIN:VCALENDAR
VERSION:2.0
PRODID:cacj.georgia.gov
X-WR-TIMEZONE:America/New_York
BEGIN:VTIMEZONE
TZID:America/New_York
X-LIC-LOCATION:America/New_York
END:VTIMEZONE
BEGIN:VEVENT
UID:6144ff4ec9e47
DTSTART;VALUE=DATE:20210422
SEQUENCE:0
TRANSP:OPAQUE
DTEND;VALUE=DATE:20210423
URL:https://cacj.georgia.gov/events/2021-04-22/earth-day
SUMMARY:Earth Day
CLASS:PUBLIC
X-MICROSOFT-CDO-ALLDAYEVENT:TRUE
DTSTAMP:20210917T164918Z
END:VEVENT
END:VCALENDAR