BEGIN:VCALENDAR
VERSION:2.0
PRODID:cacj.georgia.gov
X-WR-TIMEZONE:America/New_York
BEGIN:VTIMEZONE
TZID:America/New_York
X-LIC-LOCATION:America/New_York
END:VTIMEZONE
BEGIN:VEVENT
UID:6144ff413f242
DTSTART;VALUE=DATE:20210505
SEQUENCE:0
TRANSP:OPAQUE
DTEND;VALUE=DATE:20210506
URL:https://cacj.georgia.gov/events/2021-05-05/cinco-de-mayo
SUMMARY:Cinco De Mayo
CLASS:PUBLIC
X-MICROSOFT-CDO-ALLDAYEVENT:TRUE
DTSTAMP:20210917T164905Z
END:VEVENT
END:VCALENDAR