BEGIN:VCALENDAR
VERSION:2.0
PRODID:cacj.georgia.gov
X-WR-TIMEZONE:America/New_York
BEGIN:VTIMEZONE
TZID:America/New_York
X-LIC-LOCATION:America/New_York
END:VTIMEZONE
BEGIN:VEVENT
UID:6144ff3a27bbf
DTSTART;TZID=UTC:20210505T123000
SEQUENCE:0
TRANSP:OPAQUE
DTEND;TZID=UTC:20210505T163000
URL:https://cacj.georgia.gov/events/2021-05-05/lscmi-refresher-training-may
 -5-2021
SUMMARY:LS/CMI Refresher Training May 5\, 2021
CLASS:PUBLIC
DESCRIPTION:Registration is limited to 20 attendees. Registration will clos
 e when the class is full. Attendees must have previously completed the LS
 /CMI Training and received a certificate of completion. \n\n\n\nThe LS/CM
 I booster training is a an interactive 4 – hour training  designed to s
 erve as a refresher on the Level of Service/Case Management Inventory (LS/
 CMI) for court program staff previously certified in the theory and admini
 stration of the tool. During the session there will be multiple opportunit
 ies for participants to observe\, practice\, and present material.\n\n\n\n
 Learning Objectives:\n\n\n Describe the principles of risk\, need\, and r
 esponsivity\n Identify types of questions that should and should not be u
 sed when conducting assessment interviews\nList common assessment mistakes
  and describe techniques to prevent them\nExplain common scoring mistakes\
 nApply the standardized scoring criteria with confidence\n\n\n\n\nPlease e
 mail the contact listed below if there are additional questions about this
  training. 
DTSTAMP:20210917T164858Z
END:VEVENT
END:VCALENDAR