BEGIN:VCALENDAR
VERSION:2.0
PRODID:cacj.georgia.gov
X-WR-TIMEZONE:America/New_York
BEGIN:VTIMEZONE
TZID:America/New_York
X-LIC-LOCATION:America/New_York
END:VTIMEZONE
BEGIN:VEVENT
UID:6145290005533
DTSTART;TZID=UTC:20210407T160000
SEQUENCE:0
TRANSP:OPAQUE
DTEND;TZID=UTC:20210407T170000
URL:https://cacj.georgia.gov/events/2021-04-07/understanding-and-coping-par
 ticipant-overdose-webinar
SUMMARY:Understanding and Coping with Participant Overdose Webinar
CLASS:PUBLIC
DESCRIPTION:Registration for the webinar has ended.\n\n\n\nRegistered atten
 dees will receive a link to join the webinar from CACJ no later than March
  31\, 2021.
DTSTAMP:20210917T194712Z
END:VEVENT
END:VCALENDAR