BEGIN:VCALENDAR
PRODID:cacj.georgia.gov
VERSION:2.0
CALSCALE:GREGORIAN
BEGIN:VEVENT
UID:4d3e58269ca5914b77883e144350f119
DTSTAMP:20260425T010954Z
SUMMARY:CVIOG: Accountability and Advocacy 
DESCRIPTION:Registration will open in July 2021 and will be coordinated dur
 ing the 2021 annual training conference registration. \nThis course is te
 ntatively scheduled to occur as an in-person event \nLocation Athens\, Ge
 orgia at the 2021 annual training conference.  
URL:https://cacj.georgia.gov/events/2021-09-28/cviog-accountability-and-adv
 ocacy
DTSTART;VALUE=DATE:20210928
DTEND;VALUE=DATE:20210929
X-LIC-LOCATION:America/New_York
X-WR-TIMEZONE:America/New_York
END:VEVENT
BEGIN:VTIMEZONE
TZID:America/New_York
END:VTIMEZONE
END:VCALENDAR
