BEGIN:VCALENDAR
VERSION:2.0
PRODID:cacj.georgia.gov
X-WR-TIMEZONE:America/New_York
BEGIN:VTIMEZONE
TZID:America/New_York
X-LIC-LOCATION:America/New_York
END:VTIMEZONE
BEGIN:VEVENT
UID:6085033ba111c
DTSTART;TZID=UTC:20210511T160000
SEQUENCE:0
TRANSP:OPAQUE
DTEND;TZID=UTC:20210511T173000
URL:https://cacj.georgia.gov/events/2021-05-11/how-mat-can-assist-treatment
 -addressing-recovery-needs-webinar
SUMMARY:How MAT can Assist Treatment in Addressing Recovery Needs Webinar
CLASS:PUBLIC
DESCRIPTION:Speaker: Carl Dawson\, Licensed Professional Counselor\n\n\n
 \nBiography:\n\n\n\nCarl Dawson has worked in the field of substance-relat
 ed disorders for over 38 years. He holds an M.S. degree in community menta
 l health “clinical” psychology from Pittsburg State University in Pitt
 sburg\, Kansas. He is a licensed professional counselor in the State of Mi
 ssouri\, a national board-certified counselor\, and a national board-certi
 fied master addiction counselor. He holds a Level II Substance Abuse Couns
 elor certification and is certified as a qualified¬ substance abuse profe
 ssional by the National Association of Alcohol and Drug Abuse. He has main
 tained an independent counseling practice\, specializing in substance-rela
 ted disorders\, intervention and treatment\, PTSD\, employee assistance pr
 ograms\, and marriage and family counseling. He is a member of the clinica
 l faculty in the College of Health and Human Services\, Department of Psyc
 hology\, and the College of Education\, Department of Counseling\, Leaders
 hip\, and Special Education\, at Missouri State University\, Springfield. 
 Mr. Dawson is an educational consultant and faculty member for NDCI and a 
 consultant and lecturer for the State of Missouri/Greene County Drug Court
  Association and the Springfield Metropolitan Bar Association. He presentl
 y serves as a clinical consultant to regionally and nationally based emplo
 yee assistance programs and is the national substance use consultant for O
 'Reilly Automotive/Ozark Distributors. He joined the faculty of the Nation
 al Judicial College in 2016.
DTSTAMP:20210425T015051Z
END:VEVENT
END:VCALENDAR