BEGIN:VCALENDAR
PRODID:cacj.georgia.gov
VERSION:2.0
CALSCALE:GREGORIAN
BEGIN:VEVENT
UID:a37d6e3b7d85223d3c81bf92925dab2c
DTSTAMP:20260424T203707Z
SUMMARY:Accountability Court Winter Forum 
DESCRIPTION:The agenda will be posted as the event approaches. \n\n\n\nReg
 istration opens November 1\, 2021 - January 28\, 2022.\n\n\n\nThe training
  format is virtual via Zoom. After your registration is received\, attende
 es will receive a confirmation and next steps to receive the Zoom link for
  the session. 
URL:https://cacj.georgia.gov/events/2022-02-08/accountability-court-winter-
 forum
DTSTART;VALUE=DATE:20220208
DTEND;VALUE=DATE:20220209
X-LIC-LOCATION:America/New_York
X-WR-TIMEZONE:America/New_York
END:VEVENT
BEGIN:VTIMEZONE
TZID:America/New_York
END:VTIMEZONE
END:VCALENDAR
