BEGIN:VCALENDAR
PRODID:cacj.georgia.gov
VERSION:2.0
CALSCALE:GREGORIAN
BEGIN:VEVENT
UID:22baf5b6ecf065f86628cfd1bd29a76d
DTSTAMP:20260424T203707Z
SUMMARY:CVIOG: Succession Planning and Delegation  
DESCRIPTION:Registration will open December 1\, 2021. \nThis course is ten
 tatively scheduled to occur as a virtual course via Zoom. 
URL:https://cacj.georgia.gov/events/2022-02-02/cviog-succession-planning-an
 d-delegation
DTSTART;VALUE=DATE:20220202
DTEND;VALUE=DATE:20220203
X-LIC-LOCATION:America/New_York
X-WR-TIMEZONE:America/New_York
END:VEVENT
BEGIN:VTIMEZONE
TZID:America/New_York
END:VTIMEZONE
END:VCALENDAR
