BEGIN:VCALENDAR
PRODID:cacj.georgia.gov
VERSION:2.0
CALSCALE:GREGORIAN
BEGIN:VEVENT
UID:ded95e40a0fc8be6f3c8ddcaaaae0673
DTSTAMP:20260422T072526Z
SUMMARY:2026 New Coordinator Orientation for Accountability Courts
DESCRIPTION:This course is scheduled to occur as a virtual training via zoo
 m. Please email the contact listed below if there are immediate questions
  about the event or registration eligibility.Registered attendees will rec
 eive a zoom link and materials a week prior to the event.
URL:https://cacj.georgia.gov/events/2026-08-06/2026-new-coordinator-orienta
 tion-accountability-courts
DTSTART;VALUE=DATE:20260806
DTEND;VALUE=DATE:20260807
X-LIC-LOCATION:America/New_York
X-WR-TIMEZONE:America/New_York
END:VEVENT
BEGIN:VTIMEZONE
TZID:America/New_York
END:VTIMEZONE
END:VCALENDAR
